BEGIN:VCALENDAR
VERSION:2.0
PRODID:-//Demme Learning - ECPv6.15.1.1//NONSGML v1.0//EN
CALSCALE:GREGORIAN
METHOD:PUBLISH
X-WR-CALNAME:Demme Learning
X-ORIGINAL-URL:https://new.demmelearning.com
X-WR-CALDESC:Events for Demme Learning
REFRESH-INTERVAL;VALUE=DURATION:PT1H
X-Robots-Tag:noindex
X-PUBLISHED-TTL:PT1H
BEGIN:VTIMEZONE
TZID:America/New_York
BEGIN:DAYLIGHT
TZOFFSETFROM:-0500
TZOFFSETTO:-0400
TZNAME:EDT
DTSTART:20220313T070000
END:DAYLIGHT
BEGIN:STANDARD
TZOFFSETFROM:-0400
TZOFFSETTO:-0500
TZNAME:EST
DTSTART:20221106T060000
END:STANDARD
END:VTIMEZONE
BEGIN:VEVENT
DTSTART;TZID=America/New_York:20220830T113000
DTEND;TZID=America/New_York:20220830T123000
DTSTAMP:20260419T192158
CREATED:20220629T120842Z
LAST-MODIFIED:20220629T120842Z
UID:10000082-1661859000-1661862600@new.demmelearning.com
SUMMARY:The Risks of Poor Math Fact Recall
DESCRIPTION:Free Virtual Event \nFluent math fact recall is a struggle in SO many households. What should a parent do when they find that their student is using ineffective recall strategies? Join us for a discussion about WHY fluent fact recall is so essential\, and how Math-U-See’s AIM programs are changing the math world. Bring your questions and let us help you solve the challenge of fact recall. \nRegister for the Webinar
URL:https://new.demmelearning.com/event/the-risks-of-poor-math-fact-recall/
LOCATION:Online (Link in the description)
CATEGORIES:Virtual Events
END:VEVENT
BEGIN:VEVENT
DTSTART;TZID=America/New_York:20220823T130000
DTEND;TZID=America/New_York:20220823T140000
DTSTAMP:20260419T192158
CREATED:20220629T111843Z
LAST-MODIFIED:20220629T111843Z
UID:10000081-1661259600-1661263200@new.demmelearning.com
SUMMARY:Do I Have to Teach Math the Way Math-U-See Teaches It?
DESCRIPTION:Free Virtual Event \nIn our social media exchanges\, we often find parents asking\, “Do I have to teach Math-U-See the way Steve teaches it?” Often\, we fail to realize that the instructions in one lesson are setting us up for success in subsequent lessons. Join our team to dive deeper into WHY things like place-value notation\, estimation\, and manipulatives are all designed for your student’s mathematical success. \nRegister for the Webinar
URL:https://new.demmelearning.com/event/do-i-have-to-teach-math-the-way-math-u-see-teaches-it/
LOCATION:Online (Link in the description)
CATEGORIES:Virtual Events
END:VEVENT
BEGIN:VEVENT
DTSTART;TZID=America/New_York:20220817T120000
DTEND;TZID=America/New_York:20220817T130000
DTSTAMP:20260419T192158
CREATED:20220804T104526Z
LAST-MODIFIED:20220804T104526Z
UID:10000089-1660737600-1660741200@new.demmelearning.com
SUMMARY:Back to Homeschool with Demme Learning
DESCRIPTION:Free Virtual Event \nParents who are preparing to return to their homeschool journey may not know all of the benefits of using one of Demme Learning’s curricula. How does placement work? How do we support you in your journey? What if you are less than confident in math\, spelling\, grammar\, or composition? Join Gretchen Roe and Lisa Chimento as we give you an overview of our products and show how you can be a successful part of the Demme Learning family. \nRegister for the Webinar
URL:https://new.demmelearning.com/event/back-to-homeschool-with-demme-learning/
LOCATION:Online (Link in the description)
CATEGORIES:Virtual Events
END:VEVENT
BEGIN:VEVENT
DTSTART;TZID=America/New_York:20220816T120000
DTEND;TZID=America/New_York:20220816T130000
DTSTAMP:20260419T192158
CREATED:20220629T111831Z
LAST-MODIFIED:20220629T111831Z
UID:10000080-1660651200-1660654800@new.demmelearning.com
SUMMARY:Help Your Student Learn Time Management Skills
DESCRIPTION:Free Virtual Event \nMost kids don’t learn time management naturally. As parents\, we so often feel like our students don’t manage their time well. Join us as we discuss the facts about teaching time management more effectively. This round table will have information for parents of all age students\, but will be particularly helpful to families with children who are middle school and high school age. \nRegister for the Webinar
URL:https://new.demmelearning.com/event/help-your-student-learn-time-management-skills/
LOCATION:Online (Link in the description)
CATEGORIES:Virtual Events
END:VEVENT
BEGIN:VEVENT
DTSTART;TZID=America/New_York:20220809T130000
DTEND;TZID=America/New_York:20220809T140000
DTSTAMP:20260419T192158
CREATED:20220629T111824Z
LAST-MODIFIED:20220629T111824Z
UID:10000079-1660050000-1660053600@new.demmelearning.com
SUMMARY:When Your Child Struggles to Emerge as a Reader
DESCRIPTION:Free Virtual Event \nThere is so much joy in watching a child develop a love of reading. What do you do when you don’t see that happening in your household? What can a parent do to move their children successfully into the reading journey? And how can using a spelling program improve both spelling AND reading? Join us for this informative discussion and gain practical problem-solving tips for reading and spelling. \nRegister for the Webinar
URL:https://new.demmelearning.com/event/when-your-child-struggles-to-emerge-as-a-reader/
LOCATION:Online (Link in the description)
CATEGORIES:Virtual Events
END:VEVENT
BEGIN:VEVENT
DTSTART;TZID=America/New_York:20220802T113000
DTEND;TZID=America/New_York:20220802T123000
DTSTAMP:20260419T192158
CREATED:20220629T111813Z
LAST-MODIFIED:20220629T111813Z
UID:10000078-1659439800-1659443400@new.demmelearning.com
SUMMARY:When Adversity Cannot Stop You from Homeschooling\, with Katie Dugdale
DESCRIPTION:Free Virtual Event \nWhen Katie’s daughter was diagnosed with a brain tumor\, their family was uprooted and sent five hundred miles away to St. Jude Hospital. People suggested putting their other children in school because homeschool and cancer are just too hard. The gradual adoption of an unschooling approach to learning created the flexibility that saved their homeschool. It equipped their children to flourish in an impossible situation. Katie will share practical steps to deconstructing a classroom mentality and how to bolster your homeschool to stand firm in the waves of life. \nRegister for the Webinar
URL:https://new.demmelearning.com/event/when-adversity-cannot-stop-you-from-homeschooling-with-katie-dugdale/
LOCATION:Online (Link in the description)
CATEGORIES:Virtual Events
END:VEVENT
BEGIN:VEVENT
DTSTART;TZID=America/New_York:20220719T130000
DTEND;TZID=America/New_York:20220719T140000
DTSTAMP:20260419T192158
CREATED:20220629T111758Z
LAST-MODIFIED:20220629T111758Z
UID:10000077-1658235600-1658239200@new.demmelearning.com
SUMMARY:Is It Time to Change Your Curriculum?
DESCRIPTION:Free Virtual Event \nWe all have our favorite curriculum. What are the things to consider when you feel like your favorite is not serving your child well? Join us as we weigh the pros and cons of math\, spelling\, composition\, and grammar curriculum\, and help you create a list of priorities in deciding what the coming year means for you in these academic areas. \nRegister for the Webinar
URL:https://new.demmelearning.com/event/is-it-time-to-change-your-curriculum/
LOCATION:Online (Link in the description)
CATEGORIES:Virtual Events
END:VEVENT
BEGIN:VEVENT
DTSTART;TZID=America/New_York:20220705T120000
DTEND;TZID=America/New_York:20220705T130000
DTSTAMP:20260419T192158
CREATED:20220629T111749Z
LAST-MODIFIED:20220629T111749Z
UID:10000076-1657022400-1657026000@new.demmelearning.com
SUMMARY:My Math Skills Are Poor. How Can I Possibly Teach My Child?
DESCRIPTION:Free Virtual Event \nParents often seek a way to teach mathematics to their children that doesn’t include much parental involvement\, because they feel they are “math deficient” themselves. They are surprised when we tell them they are the BEST mathematics instructor for their children. This is one of our most frequent convention conversations\, and we would like you to understand how you can tackle this subject and model success—for yourself AND your student. If you recognize yourself in this description\, this is the webinar for you. Join us as we discuss ways you can model teachability to your student\, and set goals for you and your student that will change your homeschool environment this coming year. \nRegister for the Webinar
URL:https://new.demmelearning.com/event/my-math-skills-are-poor-how-can-i-possibly-teach-my-child/
LOCATION:Online (Link in the description)
CATEGORIES:Virtual Events
END:VEVENT
BEGIN:VEVENT
DTSTART;TZID=America/New_York:20220621T113000
DTEND;TZID=America/New_York:20220621T123000
DTSTAMP:20260419T192158
CREATED:20220329T135926Z
LAST-MODIFIED:20220329T135926Z
UID:10000072-1655811000-1655814600@new.demmelearning.com
SUMMARY:Reading and Spelling Are NOT the Same Skills
DESCRIPTION:Free Virtual Event \nAs parents\, we often assume that if our children are terrific readers\, they should also be terrific at spelling. But reading and spelling are actually opposite skills. Join us as we discuss in detail why parents are left feeling anxious at not seeing spelling proficiency develop as their students reading skills take off. This will be a not-to-miss event if spelling is a struggle in your household. \nRegister for the Webinar
URL:https://new.demmelearning.com/event/reading-and-spelling-are-not-the-same-skills/
LOCATION:Online (Link in the description)
CATEGORIES:Virtual Events
END:VEVENT
BEGIN:VEVENT
DTSTART;TZID=America/New_York:20220614T120000
DTEND;TZID=America/New_York:20220614T130000
DTSTAMP:20260419T192158
CREATED:20220324T142125Z
LAST-MODIFIED:20220324T142125Z
UID:10000071-1655208000-1655211600@new.demmelearning.com
SUMMARY:New Academic Year —New Ideas
DESCRIPTION:Free Virtual Event \nDemme Learning is growing\, and we would like to share with you how we can help you in your homeschool journey. Join us as we review our new products in grammar\, compositional writing\, and even mathematics. \nRegister for the Webinar
URL:https://new.demmelearning.com/event/new-academic-year-new-ideas/
LOCATION:Online (Link in the description)
CATEGORIES:Virtual Events
END:VEVENT
BEGIN:VEVENT
DTSTART;TZID=America/New_York:20220607T130000
DTEND;TZID=America/New_York:20220607T140000
DTSTAMP:20260419T192158
CREATED:20220324T142123Z
LAST-MODIFIED:20220324T142123Z
UID:10000070-1654606800-1654610400@new.demmelearning.com
SUMMARY:Preventing Learning Loss: What Does Summer Look Like For You?
DESCRIPTION:Free Virtual Event \nIf you are a family who traditionally takes the summer off\, how do you get back in the academic “groove” after summer? Our team will share practical tips and advice to prevent “summer learning loss.” \nRegister for the Webinar
URL:https://new.demmelearning.com/event/preventing-learning-loss-what-does-summer-look-like-for-you/
LOCATION:Online (Link in the description)
CATEGORIES:Virtual Events
END:VEVENT
BEGIN:VEVENT
DTSTART;TZID=America/New_York:20220531T113000
DTEND;TZID=America/New_York:20220531T123000
DTSTAMP:20260419T192158
CREATED:20220503T101438Z
LAST-MODIFIED:20220503T101438Z
UID:10000074-1653996600-1654000200@new.demmelearning.com
SUMMARY:Teaching Boys: Understanding How Their Learning Is Different\, with Dr. Vermelle Greene
DESCRIPTION:Free Virtual Event \nIf you are the parent of boys\, you know they view the world differently. Dr. Vermelle Greene is currently the Executive Director of The Boys Initiative\, a non-profit advocacy organization that focuses on the issues and trends involving boys and young men. She has been an educator for more than 48 years (as a teacher and administrator from elementary through college levels). Founder of S.A.C.R.E.D. Life Academy for Boys\, a Christian school in Capitol Heights\, Maryland\, she embraces the idea that boys learn differently than girls. Author of Please Teach Me Like I’m a Boy!\, Dr. Greene will join Gretchen for a lively discussion of how homeschool parents can reach and teach their boys for the best possible outcomes. Register for this not-to-be-missed event. We promise you will be encouraged in your journey. \nRegister for the Webinar
URL:https://new.demmelearning.com/event/teaching-boys-understanding-how-their-learning-is-different-with-dr-vermelle-greene/
LOCATION:Online (Link in the description)
CATEGORIES:Virtual Events
END:VEVENT
BEGIN:VEVENT
DTSTART;TZID=America/New_York:20220517T123000
DTEND;TZID=America/New_York:20220517T133000
DTSTAMP:20260419T192158
CREATED:20220420T095855Z
LAST-MODIFIED:20220420T095855Z
UID:10000073-1652790600-1652794200@new.demmelearning.com
SUMMARY:Getting to Know Algebra 1: Principles of Secondary Mathematics
DESCRIPTION:Free Virtual Event \nJoin us for an informational webinar about Algebra 1: Principles of Secondary Mathematics. During this one-hour session\, curriculum writer Sara Donovan and Community Outreach Coordinator Gretchen Roe will explain more about this new option for Algebra 1 and answer your questions. \nRegister for the Webinar \nLearn More About Algebra 1
URL:https://new.demmelearning.com/event/getting-to-know-algebra-1-principles-of-secondary-mathematics/
LOCATION:Online (Link in the description)
CATEGORIES:Virtual Events
END:VEVENT
BEGIN:VEVENT
DTSTART;TZID=America/New_York:20220510T120000
DTEND;TZID=America/New_York:20220510T130000
DTSTAMP:20260419T192158
CREATED:20220324T142121Z
LAST-MODIFIED:20220324T142121Z
UID:10000069-1652184000-1652187600@new.demmelearning.com
SUMMARY:Before Pre-Algebra: The Skill Set Your Child Should Have
DESCRIPTION:Free Virtual Event \nIs Pre-Algebra necessary for algebraic success? Join our team as they discuss the skill set your child needs to step into Pre-Algebra with confidence\, and be ready and prepared for Algebra 1. \nRegister for the Webinar
URL:https://new.demmelearning.com/event/before-pre-algebra-the-skill-set-your-child-should-have/
LOCATION:Online (Link in the description)
CATEGORIES:Virtual Events
END:VEVENT
BEGIN:VEVENT
DTSTART;TZID=America/New_York:20220503T113000
DTEND;TZID=America/New_York:20220503T123000
DTSTAMP:20260419T192158
CREATED:20220324T142118Z
LAST-MODIFIED:20220324T142118Z
UID:10000068-1651577400-1651581000@new.demmelearning.com
SUMMARY:10 Things to Help Craft a Superior High School Experience
DESCRIPTION:Free Virtual Event \nBeginning a high school experience with your homeschooler can be exciting – and maybe a little scary. Join us for this lively discussion about things to consider as you enter into the precious high school years. \nRegister for the Webinar
URL:https://new.demmelearning.com/event/10-things-to-help-craft-a-superior-high-school-experience/
LOCATION:Online (Link in the description)
CATEGORIES:Virtual Events
END:VEVENT
BEGIN:VEVENT
DTSTART;TZID=America/New_York:20220426T130000
DTEND;TZID=America/New_York:20220426T140000
DTSTAMP:20260419T192158
CREATED:20220324T142115Z
LAST-MODIFIED:20220324T142115Z
UID:10000067-1650978000-1650981600@new.demmelearning.com
SUMMARY:Guest Interview: Maggie Mills (Telling Your Family's Story)
DESCRIPTION:Free Virtual Event \nWhen we homeschool\, we often are so intent on the process that we forget to enjoy it. Join us for this special interview with Maggie Mills—ghostwriter\, author\, and homeschool advocate—as she shares ways to help your family capture the joy of the journey. \nRegister for the Webinar
URL:https://new.demmelearning.com/event/guest-interview-maggie-mills-telling-your-familys-story/
LOCATION:Online (Link in the description)
CATEGORIES:Virtual Events
END:VEVENT
BEGIN:VEVENT
DTSTART;TZID=America/New_York:20220419T120000
DTEND;TZID=America/New_York:20220419T130000
DTSTAMP:20260419T192158
CREATED:20220324T142112Z
LAST-MODIFIED:20220324T142112Z
UID:10000066-1650369600-1650373200@new.demmelearning.com
SUMMARY:Finishing Your Homeschool Year with a Flourish
DESCRIPTION:Free Virtual Event \nMost homeschool parents are weary of their journey by April. Join us as we discuss ways to evaluate where you are in your year and how to close it out with strength and joy. \nRegister for the Webinar
URL:https://new.demmelearning.com/event/finishing-your-homeschool-year-with-a-flourish/
LOCATION:Online (Link in the description)
CATEGORIES:Virtual Events
END:VEVENT
BEGIN:VEVENT
DTSTART;TZID=America/New_York:20220412T113000
DTEND;TZID=America/New_York:20220412T123000
DTSTAMP:20260419T192158
CREATED:20220324T142111Z
LAST-MODIFIED:20220324T142111Z
UID:10000065-1649763000-1649766600@new.demmelearning.com
SUMMARY:How to Teach Writing When You Don't Feel Confident About Writing
DESCRIPTION:Free Virtual Event \nParents often express frustration at teaching their children compositional writing. Join us for a lively discussion with practical tips about teaching writing. We will give you the tools to approach this subject with confidence. \nRegister for the Webinar
URL:https://new.demmelearning.com/event/how-to-teach-writing-when-you-dont-feel-confident-about-writing/
LOCATION:Online (Link in the description)
CATEGORIES:Virtual Events
END:VEVENT
BEGIN:VEVENT
DTSTART;TZID=America/New_York:20220405T130000
DTEND;TZID=America/New_York:20220405T140000
DTSTAMP:20260419T192158
CREATED:20220324T142107Z
LAST-MODIFIED:20220324T142107Z
UID:10000064-1649163600-1649167200@new.demmelearning.com
SUMMARY:Explaining and Understanding Mastery in Mathematics
DESCRIPTION:Free Virtual Event \nWe often refer to math mastery in our round tables. If you are a Math-U-See parent\, you may wonder “what does mastery look like?” at any particular point in your journey. This is one of the most critical concepts for a parent to apply accurately. Join us as we visit in depth the process of assessing mastery and how you can get the most of out applying this concept in your instruction. \nRegister for the Webinar
URL:https://new.demmelearning.com/event/explaining-and-understanding-mastery-in-mathematics/
LOCATION:Online (Link in the description)
CATEGORIES:Virtual Events
END:VEVENT
BEGIN:VEVENT
DTSTART;TZID=America/New_York:20220329T130000
DTEND;TZID=America/New_York:20220329T140000
DTSTAMP:20260419T192158
CREATED:20220107T112414Z
LAST-MODIFIED:20220107T112414Z
UID:10000041-1648558800-1648562400@new.demmelearning.com
SUMMARY:Kim Kautzer Guest Interview (Webinar)
DESCRIPTION:Free Virtual Event \nJoin Gretchen Roe and Kim Kautzer\, the founder of WriteShop\, as they discuss the legacy that WriteShop has created and how you can utilize this terrific program for your own children. Learn about WriteShop’s origins\, its family-friendly methods to get even the most reluctant writers to find their inner muse\, and the joy of teaching your children to put their thoughts into words. \nYou can register here.
URL:https://new.demmelearning.com/event/kim-kautzer-guest-interview-online-round-table/
LOCATION:Online (Link in the description)
CATEGORIES:Virtual Events
END:VEVENT
BEGIN:VEVENT
DTSTART;TZID=America/New_York:20220322T113000
DTEND;TZID=America/New_York:20220322T123000
DTSTAMP:20260419T192158
CREATED:20220103T135916Z
LAST-MODIFIED:20220103T135916Z
UID:10000039-1647948600-1647952200@new.demmelearning.com
SUMMARY:Finding Joy in Helping a Different Learner Succeed (Online Round Table)
DESCRIPTION:Free Virtual Event \nYour child has a learning difference (ADHD\, dyslexia\, dysgraphia\, etc.). What are practical ideas you can implement to help foster your student’s academic success? \nYou can register here.
URL:https://new.demmelearning.com/event/finding-joy-in-helping-a-different-learner-succeed-online-round-table/
LOCATION:Online (Link in the description)
CATEGORIES:In Person Events
END:VEVENT
BEGIN:VEVENT
DTSTART;TZID=America/New_York:20220315T130000
DTEND;TZID=America/New_York:20220315T140000
DTSTAMP:20260419T192158
CREATED:20220103T135916Z
LAST-MODIFIED:20220103T135916Z
UID:10000038-1647349200-1647352800@new.demmelearning.com
SUMMARY:Math Doodling Can Improve Your Student’s Mathematical Success (Online Round Table)
DESCRIPTION:Free Virtual Event \nYou think your student is diligently working on their math assignment\, and yet you find they have drawn faces in all of the zeros on their paper. Does math doodling have a purpose\, and if so\, how can you set expectations so your child thrives mathematically? Join us as we discuss how to make your budding artist into a confident mathematician. \nYou can register here.
URL:https://new.demmelearning.com/event/math-doodling-can-improve-your-students-mathematical-success-online-round-table/
LOCATION:Online (Link in the description)
CATEGORIES:Virtual Events
END:VEVENT
BEGIN:VEVENT
DTSTART;TZID=America/New_York:20220308T120000
DTEND;TZID=America/New_York:20220308T130000
DTSTAMP:20260419T192158
CREATED:20220103T135905Z
LAST-MODIFIED:20220103T135905Z
UID:10000037-1646740800-1646744400@new.demmelearning.com
SUMMARY:When You Dread Teaching Math (Online Round Table)
DESCRIPTION:Free Virtual Event \nMath-U-See is a terrific program for students and an exemplary experience for parents who struggled mathematically. Join us as we talk about how Math-U-See can set both the student AND the parent up for success in upper-level mathematics. \nYou can register here.
URL:https://new.demmelearning.com/event/when-you-dread-teaching-math-online-round-table/
LOCATION:Online (Link in the description)
CATEGORIES:Virtual Events
END:VEVENT
BEGIN:VEVENT
DTSTART;TZID=America/New_York:20220301T113000
DTEND;TZID=America/New_York:20220301T120000
DTSTAMP:20260419T192158
CREATED:20220103T135905Z
LAST-MODIFIED:20220103T135905Z
UID:10000036-1646134200-1646136000@new.demmelearning.com
SUMMARY:Capturing the Attention of Your Distracted Child (Online Round Table)
DESCRIPTION:Free Virtual Event \nOur world offers so many distractions that children have difficulties learning to focus. What are things we can do as parents to help them learn to focus and become independent\, lifelong learners? Join us for a lively conversation on finding and keeping attention. \nYou can register here.
URL:https://new.demmelearning.com/event/capturing-the-attention-of-your-distracted-child-online-round-table/
LOCATION:Online (Link in the description)
CATEGORIES:Virtual Events
END:VEVENT
BEGIN:VEVENT
DTSTART;TZID=America/New_York:20220222T130000
DTEND;TZID=America/New_York:20220222T140000
DTSTAMP:20260419T192158
CREATED:20220103T135904Z
LAST-MODIFIED:20220103T135904Z
UID:10000035-1645534800-1645538400@new.demmelearning.com
SUMMARY:Karen Holinga Guest Interview (Webinar)
DESCRIPTION:Free Virtual Event \nDr. Karen Holinga is the author of Spelling You See and a homeschool pioneer. Join us as we learn about Dr. Holinga’s inspirational story and how she has helped thousands of students read proficiently and spell adeptly. \nYou can register here.
URL:https://new.demmelearning.com/event/karen-holinga-guest-interview-online-round-table/
LOCATION:Online (Link in the description)
CATEGORIES:Virtual Events
END:VEVENT
BEGIN:VEVENT
DTSTART;TZID=America/New_York:20220215T130000
DTEND;TZID=America/New_York:20220215T140000
DTSTAMP:20260419T192158
CREATED:20220103T135904Z
LAST-MODIFIED:20220103T135904Z
UID:10000034-1644930000-1644933600@new.demmelearning.com
SUMMARY:When Long Division Stops Your Math Progress (Online Round Table)
DESCRIPTION:We often have conversations with parents who say that everything in their math world was going along fine until long division. We know there are reasons for challenges here. Join us as we discuss those reasons and map a plan for you to find success in division and beyond. \nYou can register here.
URL:https://new.demmelearning.com/event/when-long-division-stops-your-math-progress-online-round-table/
LOCATION:Online (Link in the description)
END:VEVENT
BEGIN:VEVENT
DTSTART;TZID=America/New_York:20220208T120000
DTEND;TZID=America/New_York:20220208T130000
DTSTAMP:20260419T192158
CREATED:20220103T135904Z
LAST-MODIFIED:20220103T135904Z
UID:10000033-1644321600-1644325200@new.demmelearning.com
SUMMARY:Conversations about Grading—When\, Why\, and How (Online Round Table)
DESCRIPTION:As homeschool parents\, we can decide whether or not grades are a part of our homeschool experience. What do we grade\, WHY do we grade\, and when do we start the grading process? Join us as we revisit one of our most popular Round Tables to weigh the pros and cons\, discuss options for your family’s experience\, and hear what veteran homeschoolers’ experiences are. \nYou can register here.
URL:https://new.demmelearning.com/event/conversations-about-grading-when-why-and-how-online-round-table/
LOCATION:Online (Link in the description)
CATEGORIES:Virtual Events
END:VEVENT
BEGIN:VEVENT
DTSTART;TZID=America/New_York:20220202T140000
DTEND;TZID=America/New_York:20220202T150000
DTSTAMP:20260419T192158
CREATED:20220107T112403Z
LAST-MODIFIED:20220107T112403Z
UID:10000040-1643810400-1643814000@new.demmelearning.com
SUMMARY:Is WriteShop the Right Choice for Your Family? (Online Round Table)
DESCRIPTION:Free Virtual Event \nWith WriteShop joining the Demme Learning family\, please join us to hear how this interactive writing program can conquer the most common stumbling blocks and help your students write successfully. \nYou can register here.
URL:https://new.demmelearning.com/event/is-writeshop-the-right-choice-for-your-family-online-round-table/
LOCATION:Online (Link in the description)
CATEGORIES:Virtual Events
END:VEVENT
BEGIN:VEVENT
DTSTART;TZID=America/New_York:20220201T113000
DTEND;TZID=America/New_York:20220201T123000
DTSTAMP:20260419T192158
CREATED:20220103T135904Z
LAST-MODIFIED:20220103T135904Z
UID:10000032-1643715000-1643718600@new.demmelearning.com
SUMMARY:Math Manipulatives—The Key to Your Success (Online Round Table)
DESCRIPTION:In the Math-U-See world\, the manipulatives ARE critical to successful instruction—but parents often miss how to capitalize on them. Join us for a conversation about how to get the best out of your Math-U-See experience. \nYou can register here.
URL:https://new.demmelearning.com/event/math-manipulatives-the-key-to-your-success-online-round-table/
LOCATION:Online (Link in the description)
END:VEVENT
BEGIN:VEVENT
DTSTART;TZID=America/New_York:20220125T130000
DTEND;TZID=America/New_York:20220125T130000
DTSTAMP:20260419T192158
CREATED:20220103T135904Z
LAST-MODIFIED:20220103T135904Z
UID:10000031-1643115600-1643115600@new.demmelearning.com
SUMMARY:Steve Demme Guest Interview (Webinar)
DESCRIPTION:Free Virtual Event \nJoin us for this very special interview with Steve Demme\, the creator of Math-U-See and founder of Building Faith Families. Hear Steve’s story and be prepared to learn about yourself and your student. \nYou can register here.
URL:https://new.demmelearning.com/event/steve-demme-guest-interview-online-round-table/
LOCATION:Online (Link in the description)
END:VEVENT
END:VCALENDAR